BEGIN:VCALENDAR
VERSION:2.0
PRODID:-//Christ United Methodist Church | Sterling Colorado - ECPv6.15.18//NONSGML v1.0//EN
CALSCALE:GREGORIAN
METHOD:PUBLISH
X-WR-CALNAME:Christ United Methodist Church | Sterling Colorado
X-ORIGINAL-URL:https://christunitedmethodistchurch.org
X-WR-CALDESC:Events for Christ United Methodist Church | Sterling Colorado
REFRESH-INTERVAL;VALUE=DURATION:PT1H
X-Robots-Tag:noindex
X-PUBLISHED-TTL:PT1H
BEGIN:VTIMEZONE
TZID:America/Denver
BEGIN:DAYLIGHT
TZOFFSETFROM:-0700
TZOFFSETTO:-0600
TZNAME:MDT
DTSTART:20230312T090000
END:DAYLIGHT
BEGIN:STANDARD
TZOFFSETFROM:-0600
TZOFFSETTO:-0700
TZNAME:MST
DTSTART:20231105T080000
END:STANDARD
BEGIN:DAYLIGHT
TZOFFSETFROM:-0700
TZOFFSETTO:-0600
TZNAME:MDT
DTSTART:20240310T090000
END:DAYLIGHT
BEGIN:STANDARD
TZOFFSETFROM:-0600
TZOFFSETTO:-0700
TZNAME:MST
DTSTART:20241103T080000
END:STANDARD
BEGIN:DAYLIGHT
TZOFFSETFROM:-0700
TZOFFSETTO:-0600
TZNAME:MDT
DTSTART:20250309T090000
END:DAYLIGHT
BEGIN:STANDARD
TZOFFSETFROM:-0600
TZOFFSETTO:-0700
TZNAME:MST
DTSTART:20251102T080000
END:STANDARD
END:VTIMEZONE
BEGIN:VEVENT
DTSTART;TZID=America/Denver:20240403T190000
DTEND;TZID=America/Denver:20240403T203000
DTSTAMP:20260421T103714
CREATED:20231212T211340Z
LAST-MODIFIED:20231212T211340Z
UID:10001979-1712170800-1712176200@christunitedmethodistchurch.org
SUMMARY:Chanel Choir Practice
DESCRIPTION:
URL:https://christunitedmethodistchurch.org/event/chanel-choir-practice/2024-04-03/
LOCATION:Christ United Methodist Church\, 104 S 4th St\, Sterling\, CO\, 80751\, United States
CATEGORIES:Practice
END:VEVENT
BEGIN:VEVENT
DTSTART;TZID=America/Denver:20240403T173000
DTEND;TZID=America/Denver:20240403T183000
DTSTAMP:20260421T103714
CREATED:20240311T215926Z
LAST-MODIFIED:20240311T215926Z
UID:10002356-1712165400-1712169000@christunitedmethodistchurch.org
SUMMARY:Hand Bell Practice
DESCRIPTION:
URL:https://christunitedmethodistchurch.org/event/hand-bell-practice-28/
LOCATION:Christ United Methodist Church\, 104 S 4th St\, Sterling\, CO\, 80751\, United States
CATEGORIES:Practice
END:VEVENT
BEGIN:VEVENT
DTSTART;TZID=America/Denver:20240403T150000
DTEND;TZID=America/Denver:20240403T160000
DTSTAMP:20260421T103714
CREATED:20240312T192019Z
LAST-MODIFIED:20240312T192019Z
UID:10002358-1712156400-1712160000@christunitedmethodistchurch.org
SUMMARY:Communion @ the Legacy
DESCRIPTION:
URL:https://christunitedmethodistchurch.org/event/communion-the-legacy/
LOCATION:Christ United Methodist Church\, 104 S 4th St\, Sterling\, CO\, 80751\, United States
CATEGORIES:Worship
END:VEVENT
BEGIN:VEVENT
DTSTART;TZID=America/Denver:20240403T140000
DTEND;TZID=America/Denver:20240403T150000
DTSTAMP:20260421T103714
CREATED:20240312T191930Z
LAST-MODIFIED:20240312T191930Z
UID:10002357-1712152800-1712156400@christunitedmethodistchurch.org
SUMMARY:Communion @ Sterling Health & Rehab
DESCRIPTION:
URL:https://christunitedmethodistchurch.org/event/communion-sterling-health-rehab/
LOCATION:Christ United Methodist Church\, 104 S 4th St\, Sterling\, CO\, 80751\, United States
CATEGORIES:Worship
END:VEVENT
BEGIN:VEVENT
DTSTART;TZID=America/Denver:20240403T103000
DTEND;TZID=America/Denver:20240403T113000
DTSTAMP:20260421T103714
CREATED:20240227T155355Z
LAST-MODIFIED:20240227T155356Z
UID:10002305-1712140200-1712143800@christunitedmethodistchurch.org
SUMMARY:Coffee Fellowship and God
DESCRIPTION:
URL:https://christunitedmethodistchurch.org/event/coffee-fellowship-and-god-36-3/2024-04-03/
LOCATION:Christ United Methodist Church\, 104 S 4th St\, Sterling\, CO\, 80751\, United States
CATEGORIES:Bible Studies
END:VEVENT
BEGIN:VEVENT
DTSTART;TZID=America/Denver:20240402T190000
DTEND;TZID=America/Denver:20240402T200000
DTSTAMP:20260421T103714
CREATED:20240311T215432Z
LAST-MODIFIED:20240311T215432Z
UID:10002355-1712084400-1712088000@christunitedmethodistchurch.org
SUMMARY:Santas of Sterling
DESCRIPTION:
URL:https://christunitedmethodistchurch.org/event/santas-of-sterling/
LOCATION:Christ United Methodist Church\, 104 S 4th St\, Sterling\, CO\, 80751\, United States
CATEGORIES:Church Meetings
END:VEVENT
BEGIN:VEVENT
DTSTART;TZID=America/Denver:20240402T180000
DTEND;TZID=America/Denver:20240402T190000
DTSTAMP:20260421T103714
CREATED:20240311T215347Z
LAST-MODIFIED:20240311T215347Z
UID:10002354-1712080800-1712084400@christunitedmethodistchurch.org
SUMMARY:Trustess
DESCRIPTION:
URL:https://christunitedmethodistchurch.org/event/trustess/
LOCATION:Christ United Methodist Church\, 104 S 4th St\, Sterling\, CO\, 80751\, United States
CATEGORIES:Church Meetings
END:VEVENT
BEGIN:VEVENT
DTSTART;TZID=America/Denver:20240331T103000
DTEND;TZID=America/Denver:20240331T113000
DTSTAMP:20260421T103714
CREATED:20231212T211944Z
LAST-MODIFIED:20231212T211944Z
UID:10002093-1711881000-1711884600@christunitedmethodistchurch.org
SUMMARY:Worship in the Sanctuary
DESCRIPTION:
URL:https://christunitedmethodistchurch.org/event/worship-in-the-sanctuary-4/2024-03-31/
LOCATION:Christ United Methodist Church\, 104 S 4th St\, Sterling\, CO\, 80751\, United States
CATEGORIES:Worship
END:VEVENT
BEGIN:VEVENT
DTSTART;TZID=America/Denver:20240331T090000
DTEND;TZID=America/Denver:20240331T100000
DTSTAMP:20260421T103714
CREATED:20231212T211801Z
LAST-MODIFIED:20231212T211801Z
UID:10002036-1711875600-1711879200@christunitedmethodistchurch.org
SUMMARY:Adult Ed. Bible Studies
DESCRIPTION:
URL:https://christunitedmethodistchurch.org/event/adult-ed-bible-studies-4/2024-03-31/
LOCATION:Christ United Methodist Church\, 104 S 4th St\, Sterling\, CO\, 80751\, United States
CATEGORIES:Bible Studies
END:VEVENT
BEGIN:VEVENT
DTSTART;VALUE=DATE:20240331
DTEND;VALUE=DATE:20240401
DTSTAMP:20260421T103714
CREATED:20240116T221103Z
LAST-MODIFIED:20240309T195226Z
UID:10002209-1711843200-1711929599@christunitedmethodistchurch.org
SUMMARY:EASTER
DESCRIPTION:Join Easter Sunday\nMarch 31\, 2024\n10:30 am Worship.
URL:https://christunitedmethodistchurch.org/event/easter-2/
LOCATION:Christ United Methodist Church\, 104 S 4th St\, Sterling\, CO\, 80751\, United States
CATEGORIES:Holiday
END:VEVENT
BEGIN:VEVENT
DTSTART;TZID=America/Denver:20240329T190000
DTEND;TZID=America/Denver:20240329T200000
DTSTAMP:20260421T103714
CREATED:20240227T154819Z
LAST-MODIFIED:20240329T010624Z
UID:10002299-1711738800-1711742400@christunitedmethodistchurch.org
SUMMARY:Good Friday Service
DESCRIPTION:Good Friday Service\nChrist United Methodist Church\nInvites you to our Good Friday service at 7pm. \n 
URL:https://christunitedmethodistchurch.org/event/good-friday-service/
LOCATION:Christ United Methodist Church\, 104 S 4th St\, Sterling\, CO\, 80751\, United States
CATEGORIES:Events,Worship
ATTACH;FMTTYPE=image/jpeg:https://christunitedmethodistchurch.org/wp-content/uploads/2024/02/Cumc-easter-24.jpg
END:VEVENT
BEGIN:VEVENT
DTSTART;VALUE=DATE:20240329
DTEND;VALUE=DATE:20240330
DTSTAMP:20260421T103714
CREATED:20240116T221330Z
LAST-MODIFIED:20240309T200323Z
UID:10002210-1711670400-1711756799@christunitedmethodistchurch.org
SUMMARY:GOOD FRIDAY
DESCRIPTION:Good Friday Service\nChrist United Methodist Church\nInvites you to our Good Friday service at 7pm.
URL:https://christunitedmethodistchurch.org/event/good-friday/
LOCATION:Christ United Methodist Church\, 104 S 4th St\, Sterling\, CO\, 80751\, United States
CATEGORIES:Holiday
ATTACH;FMTTYPE=image/jpeg:https://christunitedmethodistchurch.org/wp-content/uploads/2024/03/a-Good-Friday.jpg
END:VEVENT
BEGIN:VEVENT
DTSTART;VALUE=DATE:20240328
DTEND;VALUE=DATE:20240329
DTSTAMP:20260421T103714
CREATED:20240227T154859Z
LAST-MODIFIED:20240227T154859Z
UID:10002300-1711584000-1711670399@christunitedmethodistchurch.org
SUMMARY:NO SEDER SUPPER
DESCRIPTION:
URL:https://christunitedmethodistchurch.org/event/no-seder-supper/
LOCATION:Christ United Methodist Church\, 104 S 4th St\, Sterling\, CO\, 80751\, United States
CATEGORIES:Events
END:VEVENT
BEGIN:VEVENT
DTSTART;TZID=America/Denver:20240327T190000
DTEND;TZID=America/Denver:20240327T203000
DTSTAMP:20260421T103714
CREATED:20231212T211340Z
LAST-MODIFIED:20231212T211340Z
UID:10001978-1711566000-1711571400@christunitedmethodistchurch.org
SUMMARY:Chanel Choir Practice
DESCRIPTION:
URL:https://christunitedmethodistchurch.org/event/chanel-choir-practice/2024-03-27/
LOCATION:Christ United Methodist Church\, 104 S 4th St\, Sterling\, CO\, 80751\, United States
CATEGORIES:Practice
END:VEVENT
BEGIN:VEVENT
DTSTART;TZID=America/Denver:20240327T173000
DTEND;TZID=America/Denver:20240327T183000
DTSTAMP:20260421T103714
CREATED:20240305T203404Z
LAST-MODIFIED:20240305T203404Z
UID:10002350-1711560600-1711564200@christunitedmethodistchurch.org
SUMMARY:Hand Bell Practice
DESCRIPTION:
URL:https://christunitedmethodistchurch.org/event/hand-bell-practice-27/
LOCATION:Christ United Methodist Church\, 104 S 4th St\, Sterling\, CO\, 80751\, United States
CATEGORIES:Practice
END:VEVENT
BEGIN:VEVENT
DTSTART;TZID=America/Denver:20240327T120000
DTEND;TZID=America/Denver:20240327T130000
DTSTAMP:20260421T103714
CREATED:20240131T215524Z
LAST-MODIFIED:20240131T215524Z
UID:10002280-1711540800-1711544400@christunitedmethodistchurch.org
SUMMARY:Community Lenten Service @ Presbyterian Church
DESCRIPTION:
URL:https://christunitedmethodistchurch.org/event/community-lenten-service-presbyterian-church/2024-03-27/
LOCATION:Christ United Methodist Church\, 104 S 4th St\, Sterling\, CO\, 80751\, United States
CATEGORIES:Worship
END:VEVENT
BEGIN:VEVENT
DTSTART;TZID=America/Denver:20240327T103000
DTEND;TZID=America/Denver:20240327T113000
DTSTAMP:20260421T103714
CREATED:20240227T155355Z
LAST-MODIFIED:20240227T155356Z
UID:10002304-1711535400-1711539000@christunitedmethodistchurch.org
SUMMARY:Coffee Fellowship and God
DESCRIPTION:
URL:https://christunitedmethodistchurch.org/event/coffee-fellowship-and-god-36-3/2024-03-27/
LOCATION:Christ United Methodist Church\, 104 S 4th St\, Sterling\, CO\, 80751\, United States
CATEGORIES:Bible Studies
END:VEVENT
BEGIN:VEVENT
DTSTART;TZID=America/Denver:20240324T103000
DTEND;TZID=America/Denver:20240324T113000
DTSTAMP:20260421T103714
CREATED:20231212T211944Z
LAST-MODIFIED:20231212T211944Z
UID:10002092-1711276200-1711279800@christunitedmethodistchurch.org
SUMMARY:Worship in the Sanctuary
DESCRIPTION:
URL:https://christunitedmethodistchurch.org/event/worship-in-the-sanctuary-4/2024-03-24/
LOCATION:Christ United Methodist Church\, 104 S 4th St\, Sterling\, CO\, 80751\, United States
CATEGORIES:Worship
END:VEVENT
BEGIN:VEVENT
DTSTART;TZID=America/Denver:20240324T090000
DTEND;TZID=America/Denver:20240324T100000
DTSTAMP:20260421T103714
CREATED:20231212T211801Z
LAST-MODIFIED:20231212T211801Z
UID:10002035-1711270800-1711274400@christunitedmethodistchurch.org
SUMMARY:Adult Ed. Bible Studies
DESCRIPTION:
URL:https://christunitedmethodistchurch.org/event/adult-ed-bible-studies-4/2024-03-24/
LOCATION:Christ United Methodist Church\, 104 S 4th St\, Sterling\, CO\, 80751\, United States
CATEGORIES:Bible Studies
END:VEVENT
BEGIN:VEVENT
DTSTART;VALUE=DATE:20240324
DTEND;VALUE=DATE:20240325
DTSTAMP:20260421T103714
CREATED:20240131T222554Z
LAST-MODIFIED:20240131T222554Z
UID:10002290-1711238400-1711324799@christunitedmethodistchurch.org
SUMMARY:Palm Sunday
DESCRIPTION:
URL:https://christunitedmethodistchurch.org/event/palm-sunday/
LOCATION:Christ United Methodist Church\, 104 S 4th St\, Sterling\, CO\, 80751\, United States
CATEGORIES:Holiday
END:VEVENT
BEGIN:VEVENT
DTSTART;TZID=America/Denver:20240320T190000
DTEND;TZID=America/Denver:20240320T203000
DTSTAMP:20260421T103714
CREATED:20231212T211340Z
LAST-MODIFIED:20231212T211340Z
UID:10001977-1710961200-1710966600@christunitedmethodistchurch.org
SUMMARY:Chanel Choir Practice
DESCRIPTION:
URL:https://christunitedmethodistchurch.org/event/chanel-choir-practice/2024-03-20/
LOCATION:Christ United Methodist Church\, 104 S 4th St\, Sterling\, CO\, 80751\, United States
CATEGORIES:Practice
END:VEVENT
BEGIN:VEVENT
DTSTART;TZID=America/Denver:20240320T173000
DTEND;TZID=America/Denver:20240320T183000
DTSTAMP:20260421T103714
CREATED:20240305T203311Z
LAST-MODIFIED:20240305T203311Z
UID:10002349-1710955800-1710959400@christunitedmethodistchurch.org
SUMMARY:Hand Bell Practice
DESCRIPTION:
URL:https://christunitedmethodistchurch.org/event/hand-bell-practice-26/
LOCATION:Christ United Methodist Church\, 104 S 4th St\, Sterling\, CO\, 80751\, United States
CATEGORIES:Practice
END:VEVENT
BEGIN:VEVENT
DTSTART;TZID=America/Denver:20240320T120000
DTEND;TZID=America/Denver:20240320T130000
DTSTAMP:20260421T103714
CREATED:20240131T215524Z
LAST-MODIFIED:20240131T215524Z
UID:10002279-1710936000-1710939600@christunitedmethodistchurch.org
SUMMARY:Community Lenten Service @ Presbyterian Church
DESCRIPTION:
URL:https://christunitedmethodistchurch.org/event/community-lenten-service-presbyterian-church/2024-03-20/
LOCATION:Christ United Methodist Church\, 104 S 4th St\, Sterling\, CO\, 80751\, United States
CATEGORIES:Worship
END:VEVENT
BEGIN:VEVENT
DTSTART;TZID=America/Denver:20240320T103000
DTEND;TZID=America/Denver:20240320T113000
DTSTAMP:20260421T103714
CREATED:20240227T155355Z
LAST-MODIFIED:20240227T155356Z
UID:10002303-1710930600-1710934200@christunitedmethodistchurch.org
SUMMARY:Coffee Fellowship and God
DESCRIPTION:
URL:https://christunitedmethodistchurch.org/event/coffee-fellowship-and-god-36-3/2024-03-20/
LOCATION:Christ United Methodist Church\, 104 S 4th St\, Sterling\, CO\, 80751\, United States
CATEGORIES:Bible Studies
END:VEVENT
BEGIN:VEVENT
DTSTART;TZID=America/Denver:20240319T190000
DTEND;TZID=America/Denver:20240319T203000
DTSTAMP:20260421T103714
CREATED:20240201T210343Z
LAST-MODIFIED:20240201T210343Z
UID:10002294-1710874800-1710880200@christunitedmethodistchurch.org
SUMMARY:Church Council
DESCRIPTION:
URL:https://christunitedmethodistchurch.org/event/church-council-7/
LOCATION:Christ United Methodist Church\, 104 S 4th St\, Sterling\, CO\, 80751\, United States
CATEGORIES:Church Meetings
END:VEVENT
BEGIN:VEVENT
DTSTART;TZID=America/Denver:20240319T180000
DTEND;TZID=America/Denver:20240319T190000
DTSTAMP:20260421T103714
CREATED:20240201T205614Z
LAST-MODIFIED:20240201T205614Z
UID:10002293-1710871200-1710874800@christunitedmethodistchurch.org
SUMMARY:Finance
DESCRIPTION:
URL:https://christunitedmethodistchurch.org/event/finance-18/
LOCATION:Christ United Methodist Church\, 104 S 4th St\, Sterling\, CO\, 80751\, United States
CATEGORIES:Church Meetings
END:VEVENT
BEGIN:VEVENT
DTSTART;TZID=America/Denver:20240318T180000
DTEND;TZID=America/Denver:20240318T193000
DTSTAMP:20260421T103714
CREATED:20240131T222438Z
LAST-MODIFIED:20240131T222438Z
UID:10002289-1710784800-1710790200@christunitedmethodistchurch.org
SUMMARY:Changing Lives Christian Cancer Support Group
DESCRIPTION:
URL:https://christunitedmethodistchurch.org/event/changing-lives-christian-cancer-support-group-14/
LOCATION:Christ United Methodist Church\, 104 S 4th St\, Sterling\, CO\, 80751\, United States
CATEGORIES:Support Groups
END:VEVENT
BEGIN:VEVENT
DTSTART;TZID=America/Denver:20240317T113000
DTEND;TZID=America/Denver:20240317T123000
DTSTAMP:20260421T103714
CREATED:20240312T231657Z
LAST-MODIFIED:20240312T231657Z
UID:10002368-1710675000-1710678600@christunitedmethodistchurch.org
SUMMARY:PotLuck after Church
DESCRIPTION:Join us in the Luck of the Irish Luncheon\nWe would love for everyone to wear something green\, in the spirit of St. Patrick’s Day. \nRoast beef will be furnished by Fellowship \nSigh up sheet on communication table
URL:https://christunitedmethodistchurch.org/event/potluck-after-church/
LOCATION:Christ United Methodist Church\, 104 S 4th St\, Sterling\, CO\, 80751\, United States
CATEGORIES:Events,Holiday
ATTACH;FMTTYPE=image/png:https://christunitedmethodistchurch.org/wp-content/uploads/2024/03/Irish.png
END:VEVENT
BEGIN:VEVENT
DTSTART;TZID=America/Denver:20240317T103000
DTEND;TZID=America/Denver:20240317T113000
DTSTAMP:20260421T103714
CREATED:20231212T211944Z
LAST-MODIFIED:20231212T211944Z
UID:10002091-1710671400-1710675000@christunitedmethodistchurch.org
SUMMARY:Worship in the Sanctuary
DESCRIPTION:
URL:https://christunitedmethodistchurch.org/event/worship-in-the-sanctuary-4/2024-03-17/
LOCATION:Christ United Methodist Church\, 104 S 4th St\, Sterling\, CO\, 80751\, United States
CATEGORIES:Worship
END:VEVENT
BEGIN:VEVENT
DTSTART;TZID=America/Denver:20240317T090000
DTEND;TZID=America/Denver:20240317T100000
DTSTAMP:20260421T103714
CREATED:20231212T211801Z
LAST-MODIFIED:20231212T211801Z
UID:10002034-1710666000-1710669600@christunitedmethodistchurch.org
SUMMARY:Adult Ed. Bible Studies
DESCRIPTION:
URL:https://christunitedmethodistchurch.org/event/adult-ed-bible-studies-4/2024-03-17/
LOCATION:Christ United Methodist Church\, 104 S 4th St\, Sterling\, CO\, 80751\, United States
CATEGORIES:Bible Studies
END:VEVENT
END:VCALENDAR