BEGIN:VCALENDAR
VERSION:2.0
PRODID:-//Christ United Methodist Church | Sterling Colorado - ECPv6.15.18//NONSGML v1.0//EN
CALSCALE:GREGORIAN
METHOD:PUBLISH
X-WR-CALNAME:Christ United Methodist Church | Sterling Colorado
X-ORIGINAL-URL:https://christunitedmethodistchurch.org
X-WR-CALDESC:Events for Christ United Methodist Church | Sterling Colorado
REFRESH-INTERVAL;VALUE=DURATION:PT1H
X-Robots-Tag:noindex
X-PUBLISHED-TTL:PT1H
BEGIN:VTIMEZONE
TZID:America/Denver
BEGIN:DAYLIGHT
TZOFFSETFROM:-0700
TZOFFSETTO:-0600
TZNAME:MDT
DTSTART:20220313T090000
END:DAYLIGHT
BEGIN:STANDARD
TZOFFSETFROM:-0600
TZOFFSETTO:-0700
TZNAME:MST
DTSTART:20221106T080000
END:STANDARD
BEGIN:DAYLIGHT
TZOFFSETFROM:-0700
TZOFFSETTO:-0600
TZNAME:MDT
DTSTART:20230312T090000
END:DAYLIGHT
BEGIN:STANDARD
TZOFFSETFROM:-0600
TZOFFSETTO:-0700
TZNAME:MST
DTSTART:20231105T080000
END:STANDARD
BEGIN:DAYLIGHT
TZOFFSETFROM:-0700
TZOFFSETTO:-0600
TZNAME:MDT
DTSTART:20240310T090000
END:DAYLIGHT
BEGIN:STANDARD
TZOFFSETFROM:-0600
TZOFFSETTO:-0700
TZNAME:MST
DTSTART:20241103T080000
END:STANDARD
END:VTIMEZONE
BEGIN:VEVENT
DTSTART;TZID=America/Denver:20230315T120000
DTEND;TZID=America/Denver:20230315T130000
DTSTAMP:20260419T062948
CREATED:20230309T182516Z
LAST-MODIFIED:20230309T182759Z
UID:10001681-1678881600-1678885200@christunitedmethodistchurch.org
SUMMARY:Community Lenten Services @ 1st English Luthern
DESCRIPTION:
URL:https://christunitedmethodistchurch.org/event/community-lenten-services-1st-english-luthern/
LOCATION:Christ United Methodist Church\, 104 S 4th St\, Sterling\, CO\, 80751\, United States
CATEGORIES:Worship
END:VEVENT
BEGIN:VEVENT
DTSTART;TZID=America/Denver:20230314T143000
DTEND;TZID=America/Denver:20230314T160000
DTSTAMP:20260419T062948
CREATED:20230310T001642Z
LAST-MODIFIED:20230310T001642Z
UID:10001689-1678804200-1678809600@christunitedmethodistchurch.org
SUMMARY:Faith Council
DESCRIPTION:
URL:https://christunitedmethodistchurch.org/event/faith-council-7/
LOCATION:Christ United Methodist Church\, 104 S 4th St\, Sterling\, CO\, 80751\, United States
CATEGORIES:Support Groups
END:VEVENT
BEGIN:VEVENT
DTSTART;TZID=America/Denver:20230314T143000
DTEND;TZID=America/Denver:20230314T160000
DTSTAMP:20260419T062948
CREATED:20230309T234549Z
LAST-MODIFIED:20230309T234549Z
UID:10001690-1678804200-1678809600@christunitedmethodistchurch.org
SUMMARY:Faith Council
DESCRIPTION:
URL:https://christunitedmethodistchurch.org/event/faith-council-6/
LOCATION:Christ United Methodist Church\, 104 S 4th St\, Sterling\, CO\, 80751\, United States
CATEGORIES:Support Groups
END:VEVENT
BEGIN:VEVENT
DTSTART;TZID=America/Denver:20230312T091500
DTEND;TZID=America/Denver:20230312T100000
DTSTAMP:20260419T062948
CREATED:20221123T164651Z
LAST-MODIFIED:20221123T164653Z
UID:10001423-1678612500-1678615200@christunitedmethodistchurch.org
SUMMARY:Adult Ed. Bible Studies
DESCRIPTION:
URL:https://christunitedmethodistchurch.org/event/adult-ed-bible-studies-2/2023-03-12/
LOCATION:Christ United Methodist Church\, 104 S 4th St\, Sterling\, CO\, 80751\, United States
CATEGORIES:Worship
END:VEVENT
BEGIN:VEVENT
DTSTART;VALUE=DATE:20230312
DTEND;VALUE=DATE:20230313
DTSTAMP:20260419T062948
CREATED:20230309T182138Z
LAST-MODIFIED:20230309T182138Z
UID:10001679-1678579200-1678665599@christunitedmethodistchurch.org
SUMMARY:Daylight Savings Time Change
DESCRIPTION:
URL:https://christunitedmethodistchurch.org/event/daylight-savings-time-change/
LOCATION:Christ United Methodist Church\, 104 S 4th St\, Sterling\, CO\, 80751\, United States
END:VEVENT
BEGIN:VEVENT
DTSTART;TZID=America/Denver:20230309T080000
DTEND;TZID=America/Denver:20230309T170000
DTSTAMP:20260419T062948
CREATED:20230310T001024Z
LAST-MODIFIED:20230310T001024Z
UID:10001697-1678348800-1678381200@christunitedmethodistchurch.org
SUMMARY:NO Contemporary Service
DESCRIPTION:
URL:https://christunitedmethodistchurch.org/event/no-contemporary-service/
LOCATION:Christ United Methodist Church\, 104 S 4th St\, Sterling\, CO\, 80751\, United States
END:VEVENT
BEGIN:VEVENT
DTSTART;TZID=America/Denver:20230308T140000
DTEND;TZID=America/Denver:20230308T153000
DTSTAMP:20260419T062948
CREATED:20230224T211443Z
LAST-MODIFIED:20230224T211443Z
UID:10001676-1678284000-1678289400@christunitedmethodistchurch.org
SUMMARY:Communion At Devonshire
DESCRIPTION:
URL:https://christunitedmethodistchurch.org/event/communion-at-devonshire-7/
LOCATION:Christ United Methodist Church\, 104 S 4th St\, Sterling\, CO\, 80751\, United States
CATEGORIES:Worship
END:VEVENT
BEGIN:VEVENT
DTSTART;TZID=America/Denver:20230308T120000
DTEND;TZID=America/Denver:20230308T130000
DTSTAMP:20260419T062948
CREATED:20230224T211236Z
LAST-MODIFIED:20230224T211236Z
UID:10001675-1678276800-1678280400@christunitedmethodistchurch.org
SUMMARY:Community Lenten Service @ First English Lutheran Church
DESCRIPTION:
URL:https://christunitedmethodistchurch.org/event/community-lenten-service-first-english-lutheran-church/
LOCATION:Christ United Methodist Church\, 104 S 4th St\, Sterling\, CO\, 80751\, United States
CATEGORIES:Worship
END:VEVENT
BEGIN:VEVENT
DTSTART;TZID=America/Denver:20230307T190000
DTEND;TZID=America/Denver:20230307T203000
DTSTAMP:20260419T062948
CREATED:20230224T211711Z
LAST-MODIFIED:20230224T211711Z
UID:10001678-1678215600-1678221000@christunitedmethodistchurch.org
SUMMARY:Santas of Sterling
DESCRIPTION:
URL:https://christunitedmethodistchurch.org/event/santas-of-sterling-9/
LOCATION:Christ United Methodist Church\, 104 S 4th St\, Sterling\, CO\, 80751\, United States
CATEGORIES:Support Groups
END:VEVENT
BEGIN:VEVENT
DTSTART;TZID=America/Denver:20230307T180000
DTEND;TZID=America/Denver:20230307T190000
DTSTAMP:20260419T062948
CREATED:20230224T211623Z
LAST-MODIFIED:20230224T211623Z
UID:10001677-1678212000-1678215600@christunitedmethodistchurch.org
SUMMARY:Trustees
DESCRIPTION:
URL:https://christunitedmethodistchurch.org/event/trustees-8/
LOCATION:Christ United Methodist Church\, 104 S 4th St\, Sterling\, CO\, 80751\, United States
CATEGORIES:Church Meetings
END:VEVENT
BEGIN:VEVENT
DTSTART;TZID=America/Denver:20230305T091500
DTEND;TZID=America/Denver:20230305T100000
DTSTAMP:20260419T062948
CREATED:20221123T164651Z
LAST-MODIFIED:20221123T164653Z
UID:10001422-1678007700-1678010400@christunitedmethodistchurch.org
SUMMARY:Adult Ed. Bible Studies
DESCRIPTION:
URL:https://christunitedmethodistchurch.org/event/adult-ed-bible-studies-2/2023-03-05/
LOCATION:Christ United Methodist Church\, 104 S 4th St\, Sterling\, CO\, 80751\, United States
CATEGORIES:Worship
END:VEVENT
BEGIN:VEVENT
DTSTART;TZID=America/Denver:20230301T173000
DTEND;TZID=America/Denver:20230301T183000
DTSTAMP:20260419T062948
CREATED:20230224T211015Z
LAST-MODIFIED:20230224T211015Z
UID:10001674-1677691800-1677695400@christunitedmethodistchurch.org
SUMMARY:Hand Bell Practice
DESCRIPTION:
URL:https://christunitedmethodistchurch.org/event/hand-bell-practice-9/
LOCATION:Christ United Methodist Church\, 104 S 4th St\, Sterling\, CO\, 80751\, United States
CATEGORIES:Practice
END:VEVENT
BEGIN:VEVENT
DTSTART;TZID=America/Denver:20230301T140000
DTEND;TZID=America/Denver:20230301T140000
DTSTAMP:20260419T062948
CREATED:20230224T210507Z
LAST-MODIFIED:20230224T210507Z
UID:10001673-1677679200-1677679200@christunitedmethodistchurch.org
SUMMARY:Communion at Sterling Living Center
DESCRIPTION:
URL:https://christunitedmethodistchurch.org/event/communion-at-sterling-living-center-4/
LOCATION:Christ United Methodist Church\, 104 S 4th St\, Sterling\, CO\, 80751\, United States
END:VEVENT
BEGIN:VEVENT
DTSTART;TZID=America/Denver:20230301T120000
DTEND;TZID=America/Denver:20230301T130000
DTSTAMP:20260419T062948
CREATED:20230223T215359Z
LAST-MODIFIED:20230223T215553Z
UID:10001672-1677672000-1677675600@christunitedmethodistchurch.org
SUMMARY:Community Lenten Services @ 1st English Lutheran Church
DESCRIPTION:
URL:https://christunitedmethodistchurch.org/event/community-lenten-services-1st-english-lutheran-church/
LOCATION:Christ United Methodist Church\, 104 S 4th St\, Sterling\, CO\, 80751\, United States
CATEGORIES:Worship
END:VEVENT
BEGIN:VEVENT
DTSTART;TZID=America/Denver:20230226T091500
DTEND;TZID=America/Denver:20230226T100000
DTSTAMP:20260419T062948
CREATED:20221123T164651Z
LAST-MODIFIED:20221123T164653Z
UID:10001421-1677402900-1677405600@christunitedmethodistchurch.org
SUMMARY:Adult Ed. Bible Studies
DESCRIPTION:
URL:https://christunitedmethodistchurch.org/event/adult-ed-bible-studies-2/2023-02-26/
LOCATION:Christ United Methodist Church\, 104 S 4th St\, Sterling\, CO\, 80751\, United States
CATEGORIES:Worship
END:VEVENT
BEGIN:VEVENT
DTSTART;TZID=America/Denver:20230222T173000
DTEND;TZID=America/Denver:20230222T183000
DTSTAMP:20260419T062948
CREATED:20230109T214337Z
LAST-MODIFIED:20230109T214337Z
UID:10001664-1677087000-1677090600@christunitedmethodistchurch.org
SUMMARY:Hand Bell Practice
DESCRIPTION:
URL:https://christunitedmethodistchurch.org/event/hand-bell-practice-6/
LOCATION:Christ United Methodist Church\, 104 S 4th St\, Sterling\, CO\, 80751\, United States
CATEGORIES:Practice
END:VEVENT
BEGIN:VEVENT
DTSTART;TZID=America/Denver:20230222T120000
DTEND;TZID=America/Denver:20230222T130000
DTSTAMP:20260419T062948
CREATED:20230109T214243Z
LAST-MODIFIED:20230124T173452Z
UID:10001663-1677067200-1677070800@christunitedmethodistchurch.org
SUMMARY:Women's Bible Study CANCELLED THRU LENT SEASON
DESCRIPTION:
URL:https://christunitedmethodistchurch.org/event/womens-bible-study-5/
LOCATION:Christ United Methodist Church\, 104 S 4th St\, Sterling\, CO\, 80751\, United States
CATEGORIES:Bible Studies
END:VEVENT
BEGIN:VEVENT
DTSTART;VALUE=DATE:20230222
DTEND;VALUE=DATE:20230223
DTSTAMP:20260419T062948
CREATED:20230124T172713Z
LAST-MODIFIED:20230124T172713Z
UID:10001669-1677024000-1677110399@christunitedmethodistchurch.org
SUMMARY:ASH WEDNESDAY
DESCRIPTION:
URL:https://christunitedmethodistchurch.org/event/ash-wednesday/
LOCATION:Christ United Methodist Church\, 104 S 4th St\, Sterling\, CO\, 80751\, United States
CATEGORIES:Worship
END:VEVENT
BEGIN:VEVENT
DTSTART;TZID=America/Denver:20230221T180000
DTEND;TZID=America/Denver:20230221T190000
DTSTAMP:20260419T062948
CREATED:20230109T213944Z
LAST-MODIFIED:20230109T213944Z
UID:10001662-1677002400-1677006000@christunitedmethodistchurch.org
SUMMARY:Finance
DESCRIPTION:
URL:https://christunitedmethodistchurch.org/event/finance-8/
LOCATION:Christ United Methodist Church\, 104 S 4th St\, Sterling\, CO\, 80751\, United States
CATEGORIES:Church Meetings
END:VEVENT
BEGIN:VEVENT
DTSTART;TZID=America/Denver:20230221T000000
DTEND;TZID=America/Denver:20230221T000000
DTSTAMP:20260419T062948
CREATED:20230109T213833Z
LAST-MODIFIED:20230124T172540Z
UID:10001661-1676937600-1676937600@christunitedmethodistchurch.org
SUMMARY:Changing Lives Christian Cancer Support Group CANCELLED
DESCRIPTION:
URL:https://christunitedmethodistchurch.org/event/changing-lives-christian-cancer-support-group-8/
LOCATION:Christ United Methodist Church\, 104 S 4th St\, Sterling\, CO\, 80751\, United States
CATEGORIES:Support Groups
END:VEVENT
BEGIN:VEVENT
DTSTART;TZID=America/Denver:20230219T091500
DTEND;TZID=America/Denver:20230219T100000
DTSTAMP:20260419T062948
CREATED:20221123T164651Z
LAST-MODIFIED:20221123T164653Z
UID:10001420-1676798100-1676800800@christunitedmethodistchurch.org
SUMMARY:Adult Ed. Bible Studies
DESCRIPTION:
URL:https://christunitedmethodistchurch.org/event/adult-ed-bible-studies-2/2023-02-19/
LOCATION:Christ United Methodist Church\, 104 S 4th St\, Sterling\, CO\, 80751\, United States
CATEGORIES:Worship
END:VEVENT
BEGIN:VEVENT
DTSTART;VALUE=DATE:20230216
DTEND;VALUE=DATE:20230217
DTSTAMP:20260419T062948
CREATED:20230109T213719Z
LAST-MODIFIED:20230109T213719Z
UID:10001660-1676505600-1676591999@christunitedmethodistchurch.org
SUMMARY:Messenger Deadline
DESCRIPTION:
URL:https://christunitedmethodistchurch.org/event/messenger-deadline-9/
LOCATION:Christ United Methodist Church\, 104 S 4th St\, Sterling\, CO\, 80751\, United States
CATEGORIES:Events
END:VEVENT
BEGIN:VEVENT
DTSTART;TZID=America/Denver:20230215T173000
DTEND;TZID=America/Denver:20230215T183000
DTSTAMP:20260419T062948
CREATED:20230124T182110Z
LAST-MODIFIED:20230124T182110Z
UID:10001671-1676482200-1676485800@christunitedmethodistchurch.org
SUMMARY:Hand Bell Practice
DESCRIPTION:
URL:https://christunitedmethodistchurch.org/event/hand-bell-practice-8/
LOCATION:Christ United Methodist Church\, 104 S 4th St\, Sterling\, CO\, 80751\, United States
CATEGORIES:Practice
END:VEVENT
BEGIN:VEVENT
DTSTART;TZID=America/Denver:20230215T140000
DTEND;TZID=America/Denver:20230215T153000
DTSTAMP:20260419T062948
CREATED:20230109T213539Z
LAST-MODIFIED:20230109T213539Z
UID:10001659-1676469600-1676475000@christunitedmethodistchurch.org
SUMMARY:Alzheimer's Support Group
DESCRIPTION:
URL:https://christunitedmethodistchurch.org/event/alzheimers-support-group-9/
LOCATION:Christ United Methodist Church\, 104 S 4th St\, Sterling\, CO\, 80751\, United States
CATEGORIES:Support Groups
END:VEVENT
BEGIN:VEVENT
DTSTART;TZID=America/Denver:20230215T120000
DTEND;TZID=America/Denver:20230215T130000
DTSTAMP:20260419T062948
CREATED:20230109T213339Z
LAST-MODIFIED:20230109T213339Z
UID:10001658-1676462400-1676466000@christunitedmethodistchurch.org
SUMMARY:Women's Bible Study
DESCRIPTION:
URL:https://christunitedmethodistchurch.org/event/womens-bible-study-4/
LOCATION:Christ United Methodist Church\, 104 S 4th St\, Sterling\, CO\, 80751\, United States
CATEGORIES:Bible Studies
END:VEVENT
BEGIN:VEVENT
DTSTART;TZID=America/Denver:20230212T091500
DTEND;TZID=America/Denver:20230212T100000
DTSTAMP:20260419T062948
CREATED:20221123T164651Z
LAST-MODIFIED:20221123T164653Z
UID:10001419-1676193300-1676196000@christunitedmethodistchurch.org
SUMMARY:Adult Ed. Bible Studies
DESCRIPTION:
URL:https://christunitedmethodistchurch.org/event/adult-ed-bible-studies-2/2023-02-12/
LOCATION:Christ United Methodist Church\, 104 S 4th St\, Sterling\, CO\, 80751\, United States
CATEGORIES:Worship
END:VEVENT
BEGIN:VEVENT
DTSTART;TZID=America/Denver:20230208T173000
DTEND;TZID=America/Denver:20230208T183000
DTSTAMP:20260419T062948
CREATED:20230124T172235Z
LAST-MODIFIED:20230124T172235Z
UID:10001666-1675877400-1675881000@christunitedmethodistchurch.org
SUMMARY:Hand Bell Practice
DESCRIPTION:
URL:https://christunitedmethodistchurch.org/event/hand-bell-practice-7/
LOCATION:Christ United Methodist Church\, 104 S 4th St\, Sterling\, CO\, 80751\, United States
CATEGORIES:Practice
END:VEVENT
BEGIN:VEVENT
DTSTART;TZID=America/Denver:20230208T140000
DTEND;TZID=America/Denver:20230208T153000
DTSTAMP:20260419T062948
CREATED:20230124T172100Z
LAST-MODIFIED:20230124T172100Z
UID:10001665-1675864800-1675870200@christunitedmethodistchurch.org
SUMMARY:Communion at Devonshire
DESCRIPTION:
URL:https://christunitedmethodistchurch.org/event/communion-at-devonshire-6/
LOCATION:Christ United Methodist Church\, 104 S 4th St\, Sterling\, CO\, 80751\, United States
CATEGORIES:Worship
END:VEVENT
BEGIN:VEVENT
DTSTART;TZID=America/Denver:20230208T120000
DTEND;TZID=America/Denver:20230208T133000
DTSTAMP:20260419T062948
CREATED:20230124T173326Z
LAST-MODIFIED:20230124T173326Z
UID:10001670-1675857600-1675863000@christunitedmethodistchurch.org
SUMMARY:Women's Bible Study
DESCRIPTION:
URL:https://christunitedmethodistchurch.org/event/womens-bible-study-6/
LOCATION:Christ United Methodist Church\, 104 S 4th St\, Sterling\, CO\, 80751\, United States
CATEGORIES:Bible Studies
END:VEVENT
BEGIN:VEVENT
DTSTART;TZID=America/Denver:20230208T070000
DTEND;TZID=America/Denver:20230208T090000
DTSTAMP:20260419T062948
CREATED:20230104T180228Z
LAST-MODIFIED:20230104T180228Z
UID:10001653-1675839600-1675846800@christunitedmethodistchurch.org
SUMMARY:Banner Health Screening
DESCRIPTION:
URL:https://christunitedmethodistchurch.org/event/banner-health-screening-3/
LOCATION:Christ United Methodist Church\, 104 S 4th St\, Sterling\, CO\, 80751\, United States
CATEGORIES:Events
END:VEVENT
END:VCALENDAR