BEGIN:VCALENDAR
VERSION:2.0
PRODID:-//Christ United Methodist Church | Sterling Colorado - ECPv6.15.18//NONSGML v1.0//EN
CALSCALE:GREGORIAN
METHOD:PUBLISH
X-WR-CALNAME:Christ United Methodist Church | Sterling Colorado
X-ORIGINAL-URL:https://christunitedmethodistchurch.org
X-WR-CALDESC:Events for Christ United Methodist Church | Sterling Colorado
REFRESH-INTERVAL;VALUE=DURATION:PT1H
X-Robots-Tag:noindex
X-PUBLISHED-TTL:PT1H
BEGIN:VTIMEZONE
TZID:America/Denver
BEGIN:DAYLIGHT
TZOFFSETFROM:-0700
TZOFFSETTO:-0600
TZNAME:MDT
DTSTART:20220313T090000
END:DAYLIGHT
BEGIN:STANDARD
TZOFFSETFROM:-0600
TZOFFSETTO:-0700
TZNAME:MST
DTSTART:20221106T080000
END:STANDARD
BEGIN:DAYLIGHT
TZOFFSETFROM:-0700
TZOFFSETTO:-0600
TZNAME:MDT
DTSTART:20230312T090000
END:DAYLIGHT
BEGIN:STANDARD
TZOFFSETFROM:-0600
TZOFFSETTO:-0700
TZNAME:MST
DTSTART:20231105T080000
END:STANDARD
BEGIN:DAYLIGHT
TZOFFSETFROM:-0700
TZOFFSETTO:-0600
TZNAME:MDT
DTSTART:20240310T090000
END:DAYLIGHT
BEGIN:STANDARD
TZOFFSETFROM:-0600
TZOFFSETTO:-0700
TZNAME:MST
DTSTART:20241103T080000
END:STANDARD
END:VTIMEZONE
BEGIN:VEVENT
DTSTART;TZID=America/Denver:20230115T173000
DTEND;TZID=America/Denver:20230115T190000
DTSTAMP:20260419T130713
CREATED:20221226T183756Z
LAST-MODIFIED:20221226T183756Z
UID:10001641-1673803800-1673809200@christunitedmethodistchurch.org
SUMMARY:Contemporary Worship Service
DESCRIPTION:
URL:https://christunitedmethodistchurch.org/event/contemporary-worship-service-3/
LOCATION:Christ United Methodist Church\, 104 S 4th St\, Sterling\, CO\, 80751\, United States
CATEGORIES:Worship
END:VEVENT
BEGIN:VEVENT
DTSTART;TZID=America/Denver:20230115T091500
DTEND;TZID=America/Denver:20230115T100000
DTSTAMP:20260419T130713
CREATED:20221123T164651Z
LAST-MODIFIED:20221123T164653Z
UID:10001415-1673774100-1673776800@christunitedmethodistchurch.org
SUMMARY:Adult Ed. Bible Studies
DESCRIPTION:
URL:https://christunitedmethodistchurch.org/event/adult-ed-bible-studies-2/2023-01-15/
LOCATION:Christ United Methodist Church\, 104 S 4th St\, Sterling\, CO\, 80751\, United States
CATEGORIES:Worship
END:VEVENT
BEGIN:VEVENT
DTSTART;TZID=America/Denver:20230111T173000
DTEND;TZID=America/Denver:20230111T183000
DTSTAMP:20260419T130713
CREATED:20221226T183620Z
LAST-MODIFIED:20221226T183620Z
UID:10001640-1673458200-1673461800@christunitedmethodistchurch.org
SUMMARY:Hand Bell Practice
DESCRIPTION:
URL:https://christunitedmethodistchurch.org/event/hand-bell-practice-2/
LOCATION:Christ United Methodist Church\, 104 S 4th St\, Sterling\, CO\, 80751\, United States
CATEGORIES:Practice
END:VEVENT
BEGIN:VEVENT
DTSTART;TZID=America/Denver:20230111T140000
DTEND;TZID=America/Denver:20230111T153000
DTSTAMP:20260419T130713
CREATED:20221226T183258Z
LAST-MODIFIED:20221226T183258Z
UID:10001639-1673445600-1673451000@christunitedmethodistchurch.org
SUMMARY:Communion at Devonshire
DESCRIPTION:
URL:https://christunitedmethodistchurch.org/event/communion-at-devonshire-5/
LOCATION:Christ United Methodist Church\, 104 S 4th St\, Sterling\, CO\, 80751\, United States
CATEGORIES:Worship
END:VEVENT
BEGIN:VEVENT
DTSTART;TZID=America/Denver:20230111T120000
DTEND;TZID=America/Denver:20230111T133000
DTSTAMP:20260419T130713
CREATED:20221226T180541Z
LAST-MODIFIED:20221226T180541Z
UID:10001628-1673438400-1673443800@christunitedmethodistchurch.org
SUMMARY:Women's Bible Study CANCELLED
DESCRIPTION:
URL:https://christunitedmethodistchurch.org/event/womens-bible-study-cancelled-3/
LOCATION:Christ United Methodist Church\, 104 S 4th St\, Sterling\, CO\, 80751\, United States
CATEGORIES:Bible Studies
END:VEVENT
BEGIN:VEVENT
DTSTART;TZID=America/Denver:20230110T180000
DTEND;TZID=America/Denver:20230110T193000
DTSTAMP:20260419T130713
CREATED:20221229T162301Z
LAST-MODIFIED:20221229T162301Z
UID:10001649-1673373600-1673379000@christunitedmethodistchurch.org
SUMMARY:Changing Lives Christian Cancer Support Group
DESCRIPTION:
URL:https://christunitedmethodistchurch.org/event/changing-lives-christian-cancer-support-group-7/
LOCATION:Christ United Methodist Church\, 104 S 4th St\, Sterling\, CO\, 80751\, United States
CATEGORIES:Support Groups
END:VEVENT
BEGIN:VEVENT
DTSTART;TZID=America/Denver:20230108T091500
DTEND;TZID=America/Denver:20230108T100000
DTSTAMP:20260419T130713
CREATED:20221123T164651Z
LAST-MODIFIED:20221123T164653Z
UID:10001414-1673169300-1673172000@christunitedmethodistchurch.org
SUMMARY:Adult Ed. Bible Studies
DESCRIPTION:
URL:https://christunitedmethodistchurch.org/event/adult-ed-bible-studies-2/2023-01-08/
LOCATION:Christ United Methodist Church\, 104 S 4th St\, Sterling\, CO\, 80751\, United States
CATEGORIES:Worship
END:VEVENT
BEGIN:VEVENT
DTSTART;TZID=America/Denver:20230104T173000
DTEND;TZID=America/Denver:20230104T183000
DTSTAMP:20260419T130713
CREATED:20221226T182728Z
LAST-MODIFIED:20221226T182728Z
UID:10001638-1672853400-1672857000@christunitedmethodistchurch.org
SUMMARY:Hand Bell Practice
DESCRIPTION:
URL:https://christunitedmethodistchurch.org/event/hand-bell-practice/
LOCATION:Christ United Methodist Church\, 104 S 4th St\, Sterling\, CO\, 80751\, United States
CATEGORIES:Practice
END:VEVENT
BEGIN:VEVENT
DTSTART;TZID=America/Denver:20230104T150000
DTEND;TZID=America/Denver:20230104T160000
DTSTAMP:20260419T130713
CREATED:20221226T182540Z
LAST-MODIFIED:20221226T182540Z
UID:10001637-1672844400-1672848000@christunitedmethodistchurch.org
SUMMARY:Communion at the Legacy
DESCRIPTION:
URL:https://christunitedmethodistchurch.org/event/communion-at-the-legacy-5/
LOCATION:Christ United Methodist Church\, 104 S 4th St\, Sterling\, CO\, 80751\, United States
CATEGORIES:Worship
END:VEVENT
BEGIN:VEVENT
DTSTART;TZID=America/Denver:20230104T140000
DTEND;TZID=America/Denver:20230104T140000
DTSTAMP:20260419T130713
CREATED:20221226T182441Z
LAST-MODIFIED:20221226T182441Z
UID:10001636-1672840800-1672840800@christunitedmethodistchurch.org
SUMMARY:Communion at Sterling Living Center
DESCRIPTION:
URL:https://christunitedmethodistchurch.org/event/communion-at-sterling-living-center-3/
LOCATION:Christ United Methodist Church\, 104 S 4th St\, Sterling\, CO\, 80751\, United States
CATEGORIES:Worship
END:VEVENT
BEGIN:VEVENT
DTSTART;TZID=America/Denver:20230104T120000
DTEND;TZID=America/Denver:20230104T133000
DTSTAMP:20260419T130713
CREATED:20221226T180233Z
LAST-MODIFIED:20221226T180233Z
UID:10001627-1672833600-1672839000@christunitedmethodistchurch.org
SUMMARY:Women's Bible Study CANCELLED
DESCRIPTION:
URL:https://christunitedmethodistchurch.org/event/womens-bible-study-cancelled-2/
LOCATION:Christ United Methodist Church\, 104 S 4th St\, Sterling\, CO\, 80751\, United States
CATEGORIES:Bible Studies
END:VEVENT
BEGIN:VEVENT
DTSTART;TZID=America/Denver:20230103T190000
DTEND;TZID=America/Denver:20230103T203000
DTSTAMP:20260419T130713
CREATED:20221226T181701Z
LAST-MODIFIED:20221226T181701Z
UID:10001632-1672772400-1672777800@christunitedmethodistchurch.org
SUMMARY:Santas of Sterling
DESCRIPTION:
URL:https://christunitedmethodistchurch.org/event/santas-of-sterling-7/
LOCATION:Christ United Methodist Church\, 104 S 4th St\, Sterling\, CO\, 80751\, United States
CATEGORIES:Support Groups
END:VEVENT
BEGIN:VEVENT
DTSTART;TZID=America/Denver:20230103T180000
DTEND;TZID=America/Denver:20230103T190000
DTSTAMP:20260419T130713
CREATED:20221226T181552Z
LAST-MODIFIED:20221226T181552Z
UID:10001631-1672768800-1672772400@christunitedmethodistchurch.org
SUMMARY:Trustees
DESCRIPTION:
URL:https://christunitedmethodistchurch.org/event/trustees/
LOCATION:Christ United Methodist Church\, 104 S 4th St\, Sterling\, CO\, 80751\, United States
CATEGORIES:Support Groups
END:VEVENT
BEGIN:VEVENT
DTSTART;TZID=America/Denver:20230101T173000
DTEND;TZID=America/Denver:20230101T190000
DTSTAMP:20260419T130713
CREATED:20221226T182055Z
LAST-MODIFIED:20221226T182055Z
UID:10001634-1672594200-1672599600@christunitedmethodistchurch.org
SUMMARY:Contemporary Worship Service
DESCRIPTION:
URL:https://christunitedmethodistchurch.org/event/contemporary-worship-service/
LOCATION:Christ United Methodist Church\, 104 S 4th St\, Sterling\, CO\, 80751\, United States
CATEGORIES:Worship
END:VEVENT
BEGIN:VEVENT
DTSTART;TZID=America/Denver:20230101T091500
DTEND;TZID=America/Denver:20230101T100000
DTSTAMP:20260419T130713
CREATED:20221123T164651Z
LAST-MODIFIED:20221123T164653Z
UID:10001413-1672564500-1672567200@christunitedmethodistchurch.org
SUMMARY:Adult Ed. Bible Studies
DESCRIPTION:
URL:https://christunitedmethodistchurch.org/event/adult-ed-bible-studies-2/2023-01-01/
LOCATION:Christ United Methodist Church\, 104 S 4th St\, Sterling\, CO\, 80751\, United States
CATEGORIES:Worship
END:VEVENT
END:VCALENDAR