BEGIN:VCALENDAR
VERSION:2.0
PRODID:-//Christ United Methodist Church | Sterling Colorado - ECPv6.15.18//NONSGML v1.0//EN
CALSCALE:GREGORIAN
METHOD:PUBLISH
X-WR-CALNAME:Christ United Methodist Church | Sterling Colorado
X-ORIGINAL-URL:https://christunitedmethodistchurch.org
X-WR-CALDESC:Events for Christ United Methodist Church | Sterling Colorado
REFRESH-INTERVAL;VALUE=DURATION:PT1H
X-Robots-Tag:noindex
X-PUBLISHED-TTL:PT1H
BEGIN:VTIMEZONE
TZID:America/Denver
BEGIN:DAYLIGHT
TZOFFSETFROM:-0700
TZOFFSETTO:-0600
TZNAME:MDT
DTSTART:20230312T090000
END:DAYLIGHT
BEGIN:STANDARD
TZOFFSETFROM:-0600
TZOFFSETTO:-0700
TZNAME:MST
DTSTART:20231105T080000
END:STANDARD
BEGIN:DAYLIGHT
TZOFFSETFROM:-0700
TZOFFSETTO:-0600
TZNAME:MDT
DTSTART:20240310T090000
END:DAYLIGHT
BEGIN:STANDARD
TZOFFSETFROM:-0600
TZOFFSETTO:-0700
TZNAME:MST
DTSTART:20241103T080000
END:STANDARD
BEGIN:DAYLIGHT
TZOFFSETFROM:-0700
TZOFFSETTO:-0600
TZNAME:MDT
DTSTART:20250309T090000
END:DAYLIGHT
BEGIN:STANDARD
TZOFFSETFROM:-0600
TZOFFSETTO:-0700
TZNAME:MST
DTSTART:20251102T080000
END:STANDARD
END:VTIMEZONE
BEGIN:VEVENT
DTSTART;TZID=America/Denver:20240408T193000
DTEND;TZID=America/Denver:20240408T203000
DTSTAMP:20260419T074309
CREATED:20240312T192143Z
LAST-MODIFIED:20240312T192143Z
UID:10002359-1712604600-1712608200@christunitedmethodistchurch.org
SUMMARY:Logan County Historical Society
DESCRIPTION:
URL:https://christunitedmethodistchurch.org/event/logan-county-historical-society-6/
LOCATION:Christ United Methodist Church\, 104 S 4th St\, Sterling\, CO\, 80751\, United States
CATEGORIES:Events
END:VEVENT
BEGIN:VEVENT
DTSTART;TZID=America/Denver:20240409T183000
DTEND;TZID=America/Denver:20240409T200000
DTSTAMP:20260419T074309
CREATED:20240311T215221Z
LAST-MODIFIED:20240411T153748Z
UID:10002353-1712687400-1712692800@christunitedmethodistchurch.org
SUMMARY:Membership Class CANCELLED
DESCRIPTION:
URL:https://christunitedmethodistchurch.org/event/membership-class-3/
LOCATION:Christ United Methodist Church\, 104 S 4th St\, Sterling\, CO\, 80751\, United States
CATEGORIES:Events
END:VEVENT
BEGIN:VEVENT
DTSTART;TZID=America/Denver:20240410T103000
DTEND;TZID=America/Denver:20240410T113000
DTSTAMP:20260419T074309
CREATED:20240227T155355Z
LAST-MODIFIED:20240227T155356Z
UID:10002306-1712745000-1712748600@christunitedmethodistchurch.org
SUMMARY:Coffee Fellowship and God
DESCRIPTION:
URL:https://christunitedmethodistchurch.org/event/coffee-fellowship-and-god-36-3/2024-04-10/
LOCATION:Christ United Methodist Church\, 104 S 4th St\, Sterling\, CO\, 80751\, United States
CATEGORIES:Bible Studies
END:VEVENT
BEGIN:VEVENT
DTSTART;TZID=America/Denver:20240410T140000
DTEND;TZID=America/Denver:20240410T153000
DTSTAMP:20260419T074309
CREATED:20240312T192334Z
LAST-MODIFIED:20240312T192334Z
UID:10002360-1712757600-1712763000@christunitedmethodistchurch.org
SUMMARY:Communion at Devonshire
DESCRIPTION:
URL:https://christunitedmethodistchurch.org/event/communion-at-devonshire/
LOCATION:Christ United Methodist Church\, 104 S 4th St\, Sterling\, CO\, 80751\, United States
CATEGORIES:Worship
END:VEVENT
BEGIN:VEVENT
DTSTART;TZID=America/Denver:20240410T173000
DTEND;TZID=America/Denver:20240410T183000
DTSTAMP:20260419T074309
CREATED:20240312T193728Z
LAST-MODIFIED:20240312T193728Z
UID:10002362-1712770200-1712773800@christunitedmethodistchurch.org
SUMMARY:Hand Bell Practice
DESCRIPTION:
URL:https://christunitedmethodistchurch.org/event/hand-bell-practice-30/
LOCATION:Christ United Methodist Church\, 104 S 4th St\, Sterling\, CO\, 80751\, United States
CATEGORIES:Practice
END:VEVENT
BEGIN:VEVENT
DTSTART;TZID=America/Denver:20240410T190000
DTEND;TZID=America/Denver:20240410T203000
DTSTAMP:20260419T074309
CREATED:20231212T211340Z
LAST-MODIFIED:20231212T211340Z
UID:10001980-1712775600-1712781000@christunitedmethodistchurch.org
SUMMARY:Chanel Choir Practice
DESCRIPTION:
URL:https://christunitedmethodistchurch.org/event/chanel-choir-practice/2024-04-10/
LOCATION:Christ United Methodist Church\, 104 S 4th St\, Sterling\, CO\, 80751\, United States
CATEGORIES:Practice
END:VEVENT
BEGIN:VEVENT
DTSTART;TZID=America/Denver:20240411T100000
DTEND;TZID=America/Denver:20240411T150000
DTSTAMP:20260419T074309
CREATED:20240214T214143Z
LAST-MODIFIED:20240411T153657Z
UID:10002296-1712829600-1712847600@christunitedmethodistchurch.org
SUMMARY:American Red Cross Blood Drive
DESCRIPTION:
URL:https://christunitedmethodistchurch.org/event/american-red-cross-blood-drive-3/
LOCATION:Christ United Methodist Church\, 104 S 4th St\, Sterling\, CO\, 80751\, United States
CATEGORIES:Events
END:VEVENT
BEGIN:VEVENT
DTSTART;TZID=America/Denver:20240414T090000
DTEND;TZID=America/Denver:20240414T100000
DTSTAMP:20260419T074309
CREATED:20231212T211801Z
LAST-MODIFIED:20231212T211801Z
UID:10002038-1713085200-1713088800@christunitedmethodistchurch.org
SUMMARY:Adult Ed. Bible Studies
DESCRIPTION:
URL:https://christunitedmethodistchurch.org/event/adult-ed-bible-studies-4/2024-04-14/
LOCATION:Christ United Methodist Church\, 104 S 4th St\, Sterling\, CO\, 80751\, United States
CATEGORIES:Bible Studies
END:VEVENT
BEGIN:VEVENT
DTSTART;TZID=America/Denver:20240414T100000
DTEND;TZID=America/Denver:20240414T120000
DTSTAMP:20260419T074309
CREATED:20240327T204419Z
LAST-MODIFIED:20240327T204419Z
UID:10002369-1713088800-1713096000@christunitedmethodistchurch.org
SUMMARY:Compassion Sunday
DESCRIPTION:
URL:https://christunitedmethodistchurch.org/event/compassion-sunday-2/
LOCATION:Christ United Methodist Church\, 104 S 4th St\, Sterling\, CO\, 80751\, United States
CATEGORIES:Events
END:VEVENT
BEGIN:VEVENT
DTSTART;TZID=America/Denver:20240414T103000
DTEND;TZID=America/Denver:20240414T113000
DTSTAMP:20260419T074309
CREATED:20231212T211944Z
LAST-MODIFIED:20231212T211944Z
UID:10002095-1713090600-1713094200@christunitedmethodistchurch.org
SUMMARY:Worship in the Sanctuary
DESCRIPTION:
URL:https://christunitedmethodistchurch.org/event/worship-in-the-sanctuary-4/2024-04-14/
LOCATION:Christ United Methodist Church\, 104 S 4th St\, Sterling\, CO\, 80751\, United States
CATEGORIES:Worship
END:VEVENT
END:VCALENDAR