BEGIN:VCALENDAR
VERSION:2.0
PRODID:-//Christ United Methodist Church | Sterling Colorado - ECPv6.15.18//NONSGML v1.0//EN
CALSCALE:GREGORIAN
METHOD:PUBLISH
X-WR-CALNAME:Christ United Methodist Church | Sterling Colorado
X-ORIGINAL-URL:https://christunitedmethodistchurch.org
X-WR-CALDESC:Events for Christ United Methodist Church | Sterling Colorado
REFRESH-INTERVAL;VALUE=DURATION:PT1H
X-Robots-Tag:noindex
X-PUBLISHED-TTL:PT1H
BEGIN:VTIMEZONE
TZID:America/Denver
BEGIN:DAYLIGHT
TZOFFSETFROM:-0700
TZOFFSETTO:-0600
TZNAME:MDT
DTSTART:20230312T090000
END:DAYLIGHT
BEGIN:STANDARD
TZOFFSETFROM:-0600
TZOFFSETTO:-0700
TZNAME:MST
DTSTART:20231105T080000
END:STANDARD
BEGIN:DAYLIGHT
TZOFFSETFROM:-0700
TZOFFSETTO:-0600
TZNAME:MDT
DTSTART:20240310T090000
END:DAYLIGHT
BEGIN:STANDARD
TZOFFSETFROM:-0600
TZOFFSETTO:-0700
TZNAME:MST
DTSTART:20241103T080000
END:STANDARD
BEGIN:DAYLIGHT
TZOFFSETFROM:-0700
TZOFFSETTO:-0600
TZNAME:MDT
DTSTART:20250309T090000
END:DAYLIGHT
BEGIN:STANDARD
TZOFFSETFROM:-0600
TZOFFSETTO:-0700
TZNAME:MST
DTSTART:20251102T080000
END:STANDARD
END:VTIMEZONE
BEGIN:VEVENT
DTSTART;TZID=America/Denver:20240415T180000
DTEND;TZID=America/Denver:20240415T193000
DTSTAMP:20260421T104923
CREATED:20240312T195025Z
LAST-MODIFIED:20240312T195025Z
UID:10002367-1713204000-1713209400@christunitedmethodistchurch.org
SUMMARY:Changing Lives Christian Cancer Support Group
DESCRIPTION:
URL:https://christunitedmethodistchurch.org/event/changing-lives-christian-cancer-support-group/
LOCATION:Christ United Methodist Church\, 104 S 4th St\, Sterling\, CO\, 80751\, United States
CATEGORIES:Bible Studies
END:VEVENT
BEGIN:VEVENT
DTSTART;TZID=America/Denver:20240416T180000
DTEND;TZID=America/Denver:20240416T190000
DTSTAMP:20260421T104923
CREATED:20240312T194910Z
LAST-MODIFIED:20240312T194910Z
UID:10002366-1713290400-1713294000@christunitedmethodistchurch.org
SUMMARY:Finance
DESCRIPTION:
URL:https://christunitedmethodistchurch.org/event/finance/
LOCATION:Christ United Methodist Church\, 104 S 4th St\, Sterling\, CO\, 80751\, United States
CATEGORIES:Church Meetings
END:VEVENT
BEGIN:VEVENT
DTSTART;TZID=America/Denver:20240417T103000
DTEND;TZID=America/Denver:20240417T113000
DTSTAMP:20260421T104923
CREATED:20240227T155355Z
LAST-MODIFIED:20240227T155356Z
UID:10002307-1713349800-1713353400@christunitedmethodistchurch.org
SUMMARY:Coffee Fellowship and God
DESCRIPTION:
URL:https://christunitedmethodistchurch.org/event/coffee-fellowship-and-god-36-3/2024-04-17/
LOCATION:Christ United Methodist Church\, 104 S 4th St\, Sterling\, CO\, 80751\, United States
CATEGORIES:Bible Studies
END:VEVENT
BEGIN:VEVENT
DTSTART;TZID=America/Denver:20240417T140000
DTEND;TZID=America/Denver:20240417T153000
DTSTAMP:20260421T104923
CREATED:20240312T194117Z
LAST-MODIFIED:20240312T194117Z
UID:10002364-1713362400-1713367800@christunitedmethodistchurch.org
SUMMARY:Alzheimer's Support Group
DESCRIPTION:
URL:https://christunitedmethodistchurch.org/event/alzheimers-support-group/
LOCATION:Christ United Methodist Church\, 104 S 4th St\, Sterling\, CO\, 80751\, United States
CATEGORIES:Support Groups
END:VEVENT
BEGIN:VEVENT
DTSTART;TZID=America/Denver:20240417T173000
DTEND;TZID=America/Denver:20240417T183000
DTSTAMP:20260421T104923
CREATED:20240312T192538Z
LAST-MODIFIED:20240312T192538Z
UID:10002361-1713375000-1713378600@christunitedmethodistchurch.org
SUMMARY:Hand Bell Practice
DESCRIPTION:
URL:https://christunitedmethodistchurch.org/event/hand-bell-practice-29/
LOCATION:Christ United Methodist Church\, 104 S 4th St\, Sterling\, CO\, 80751\, United States
CATEGORIES:Practice
END:VEVENT
BEGIN:VEVENT
DTSTART;TZID=America/Denver:20240417T190000
DTEND;TZID=America/Denver:20240417T203000
DTSTAMP:20260421T104923
CREATED:20231212T211340Z
LAST-MODIFIED:20231212T211340Z
UID:10001981-1713380400-1713385800@christunitedmethodistchurch.org
SUMMARY:Chanel Choir Practice
DESCRIPTION:
URL:https://christunitedmethodistchurch.org/event/chanel-choir-practice/2024-04-17/
LOCATION:Christ United Methodist Church\, 104 S 4th St\, Sterling\, CO\, 80751\, United States
CATEGORIES:Practice
END:VEVENT
BEGIN:VEVENT
DTSTART;VALUE=DATE:20240418
DTEND;VALUE=DATE:20240419
DTSTAMP:20260421T104923
CREATED:20240312T194302Z
LAST-MODIFIED:20240312T194302Z
UID:10002365-1713398400-1713484799@christunitedmethodistchurch.org
SUMMARY:Messenger Deadline
DESCRIPTION:
URL:https://christunitedmethodistchurch.org/event/messenger-deadline/
LOCATION:Christ United Methodist Church\, 104 S 4th St\, Sterling\, CO\, 80751\, United States
END:VEVENT
BEGIN:VEVENT
DTSTART;TZID=America/Denver:20240421T090000
DTEND;TZID=America/Denver:20240421T100000
DTSTAMP:20260421T104923
CREATED:20231212T211801Z
LAST-MODIFIED:20231212T211801Z
UID:10002039-1713690000-1713693600@christunitedmethodistchurch.org
SUMMARY:Adult Ed. Bible Studies
DESCRIPTION:
URL:https://christunitedmethodistchurch.org/event/adult-ed-bible-studies-4/2024-04-21/
LOCATION:Christ United Methodist Church\, 104 S 4th St\, Sterling\, CO\, 80751\, United States
CATEGORIES:Bible Studies
END:VEVENT
BEGIN:VEVENT
DTSTART;TZID=America/Denver:20240421T100000
DTEND;TZID=America/Denver:20240421T120000
DTSTAMP:20260421T104923
CREATED:20240327T204541Z
LAST-MODIFIED:20240327T204541Z
UID:10002370-1713693600-1713700800@christunitedmethodistchurch.org
SUMMARY:Consecration Sunday
DESCRIPTION:
URL:https://christunitedmethodistchurch.org/event/consecration-sunday/
LOCATION:Christ United Methodist Church\, 104 S 4th St\, Sterling\, CO\, 80751\, United States
CATEGORIES:Events
END:VEVENT
BEGIN:VEVENT
DTSTART;TZID=America/Denver:20240421T103000
DTEND;TZID=America/Denver:20240421T113000
DTSTAMP:20260421T104923
CREATED:20231212T211944Z
LAST-MODIFIED:20231212T211944Z
UID:10002096-1713695400-1713699000@christunitedmethodistchurch.org
SUMMARY:Worship in the Sanctuary
DESCRIPTION:
URL:https://christunitedmethodistchurch.org/event/worship-in-the-sanctuary-4/2024-04-21/
LOCATION:Christ United Methodist Church\, 104 S 4th St\, Sterling\, CO\, 80751\, United States
CATEGORIES:Worship
END:VEVENT
END:VCALENDAR