BEGIN:VCALENDAR
VERSION:2.0
PRODID:-//Christ United Methodist Church | Sterling Colorado - ECPv6.15.18//NONSGML v1.0//EN
CALSCALE:GREGORIAN
METHOD:PUBLISH
X-ORIGINAL-URL:https://christunitedmethodistchurch.org
X-WR-CALDESC:Events for Christ United Methodist Church | Sterling Colorado
REFRESH-INTERVAL;VALUE=DURATION:PT1H
X-Robots-Tag:noindex
X-PUBLISHED-TTL:PT1H
BEGIN:VTIMEZONE
TZID:America/Denver
BEGIN:DAYLIGHT
TZOFFSETFROM:-0700
TZOFFSETTO:-0600
TZNAME:MDT
DTSTART:20230312T090000
END:DAYLIGHT
BEGIN:STANDARD
TZOFFSETFROM:-0600
TZOFFSETTO:-0700
TZNAME:MST
DTSTART:20231105T080000
END:STANDARD
BEGIN:DAYLIGHT
TZOFFSETFROM:-0700
TZOFFSETTO:-0600
TZNAME:MDT
DTSTART:20240310T090000
END:DAYLIGHT
BEGIN:STANDARD
TZOFFSETFROM:-0600
TZOFFSETTO:-0700
TZNAME:MST
DTSTART:20241103T080000
END:STANDARD
BEGIN:DAYLIGHT
TZOFFSETFROM:-0700
TZOFFSETTO:-0600
TZNAME:MDT
DTSTART:20250309T090000
END:DAYLIGHT
BEGIN:STANDARD
TZOFFSETFROM:-0600
TZOFFSETTO:-0700
TZNAME:MST
DTSTART:20251102T080000
END:STANDARD
END:VTIMEZONE
BEGIN:VEVENT
DTSTART;TZID=America/Denver:20240513T180000
DTEND;TZID=America/Denver:20240513T193000
DTSTAMP:20260421T161952
CREATED:20240403T150250Z
LAST-MODIFIED:20240403T150250Z
UID:10002379-1715623200-1715628600@christunitedmethodistchurch.org
SUMMARY:Changing Lives Christian Cancer
DESCRIPTION:
URL:https://christunitedmethodistchurch.org/event/changing-lives-christian-cancer/
LOCATION:Christ United Methodist Church\, 104 S 4th St\, Sterling\, CO\, 80751\, United States
CATEGORIES:Support Groups
END:VEVENT
BEGIN:VEVENT
DTSTART;TZID=America/Denver:20240515T103000
DTEND;TZID=America/Denver:20240515T113000
DTSTAMP:20260421T161952
CREATED:20240227T155355Z
LAST-MODIFIED:20240227T155356Z
UID:10002311-1715769000-1715772600@christunitedmethodistchurch.org
SUMMARY:Coffee Fellowship and God
DESCRIPTION:
URL:https://christunitedmethodistchurch.org/event/coffee-fellowship-and-god-36-3/2024-05-15/
LOCATION:Christ United Methodist Church\, 104 S 4th St\, Sterling\, CO\, 80751\, United States
CATEGORIES:Bible Studies
END:VEVENT
BEGIN:VEVENT
DTSTART;TZID=America/Denver:20240515T140000
DTEND;TZID=America/Denver:20240515T150000
DTSTAMP:20260421T161952
CREATED:20240403T150657Z
LAST-MODIFIED:20240403T150657Z
UID:10002381-1715781600-1715785200@christunitedmethodistchurch.org
SUMMARY:Alzheimer's Support Group
DESCRIPTION:
URL:https://christunitedmethodistchurch.org/event/alzheimers-support-group-2/
LOCATION:Christ United Methodist Church\, 104 S 4th St\, Sterling\, CO\, 80751\, United States
CATEGORIES:Support Groups
END:VEVENT
BEGIN:VEVENT
DTSTART;TZID=America/Denver:20240515T173000
DTEND;TZID=America/Denver:20240515T183000
DTSTAMP:20260421T161952
CREATED:20240403T152045Z
LAST-MODIFIED:20240403T152045Z
UID:10002382-1715794200-1715797800@christunitedmethodistchurch.org
SUMMARY:Hand Bell Practice
DESCRIPTION:
URL:https://christunitedmethodistchurch.org/event/hand-bell-practice-33/
LOCATION:Christ United Methodist Church\, 104 S 4th St\, Sterling\, CO\, 80751\, United States
CATEGORIES:Practice
END:VEVENT
BEGIN:VEVENT
DTSTART;TZID=America/Denver:20240515T190000
DTEND;TZID=America/Denver:20240515T203000
DTSTAMP:20260421T161952
CREATED:20231212T211340Z
LAST-MODIFIED:20231212T211340Z
UID:10001985-1715799600-1715805000@christunitedmethodistchurch.org
SUMMARY:Chanel Choir Practice
DESCRIPTION:
URL:https://christunitedmethodistchurch.org/event/chanel-choir-practice/2024-05-15/
LOCATION:Christ United Methodist Church\, 104 S 4th St\, Sterling\, CO\, 80751\, United States
CATEGORIES:Practice
END:VEVENT
BEGIN:VEVENT
DTSTART;VALUE=DATE:20240516
DTEND;VALUE=DATE:20240517
DTSTAMP:20260421T161952
CREATED:20240403T150540Z
LAST-MODIFIED:20240403T150540Z
UID:10002380-1715817600-1715903999@christunitedmethodistchurch.org
SUMMARY:Messenger Deadline
DESCRIPTION:
URL:https://christunitedmethodistchurch.org/event/messenger-deadline-2/
LOCATION:Christ United Methodist Church\, 104 S 4th St\, Sterling\, CO\, 80751\, United States
CATEGORIES:Events
END:VEVENT
BEGIN:VEVENT
DTSTART;VALUE=DATE:20240519
DTEND;VALUE=DATE:20240520
DTSTAMP:20260421T161952
CREATED:20240403T213013Z
LAST-MODIFIED:20240403T213013Z
UID:10002388-1716076800-1716163199@christunitedmethodistchurch.org
SUMMARY:PENTECOST SUNDAY
DESCRIPTION:
URL:https://christunitedmethodistchurch.org/event/pentecost-sunday/
LOCATION:Christ United Methodist Church\, 104 S 4th St\, Sterling\, CO\, 80751\, United States
CATEGORIES:Holiday
END:VEVENT
BEGIN:VEVENT
DTSTART;TZID=America/Denver:20240519T090000
DTEND;TZID=America/Denver:20240519T100000
DTSTAMP:20260421T161952
CREATED:20231212T211801Z
LAST-MODIFIED:20231212T211801Z
UID:10002043-1716109200-1716112800@christunitedmethodistchurch.org
SUMMARY:Adult Ed. Bible Studies
DESCRIPTION:
URL:https://christunitedmethodistchurch.org/event/adult-ed-bible-studies-4/2024-05-19/
LOCATION:Christ United Methodist Church\, 104 S 4th St\, Sterling\, CO\, 80751\, United States
CATEGORIES:Bible Studies
END:VEVENT
BEGIN:VEVENT
DTSTART;TZID=America/Denver:20240519T103000
DTEND;TZID=America/Denver:20240519T113000
DTSTAMP:20260421T161952
CREATED:20231212T211944Z
LAST-MODIFIED:20231212T211944Z
UID:10002100-1716114600-1716118200@christunitedmethodistchurch.org
SUMMARY:Worship in the Sanctuary
DESCRIPTION:
URL:https://christunitedmethodistchurch.org/event/worship-in-the-sanctuary-4/2024-05-19/
LOCATION:Christ United Methodist Church\, 104 S 4th St\, Sterling\, CO\, 80751\, United States
CATEGORIES:Worship
END:VEVENT
END:VCALENDAR